BEGIN:VCALENDAR
VERSION:2.0
PRODID:Imitheme.com 
BEGIN:VEVENT
UID:20260423T1007041250414630
DTSTAMP;TZID=UTC:2026-04-23 10:07:04
DTSTART;TZID=America/Los_Angeles:20260423T100704
DTEND;TZID=America/Los_Angeles:20260423T100704
SUMMARY:Industrial Transformation ASIA-PACIFIC ITAP 2022
LOCATION:Singapore
DESCRIPTION:With companies understanding the importance of Industry 4.0 (I4.0) in enabling effective and efficient work processes, several key considerations have emerged as the industry eco-system continues to evolve post-COVID, while staying prepared for disruptions in global supply chains brought about by world events. Into the 5th edition, ITAP will deep dive into trends and developments in three key dimensions which influence the magnitude of sustainable business development for advanced manufacturing and its related sectors locally, regionally, and globally.
URL:https://assunmotor.com/blog/eventer/industrial-transformation-asia-pacific-itap-2022/
END:VEVENT
END:VCALENDAR
