BEGIN:VCALENDAR
VERSION:2.0
PRODID:Imitheme.com 
BEGIN:VEVENT
UID:20260423T0838191697176827
DTSTAMP;TZID=UTC:2026-04-23 08:38:19
DTSTART;TZID=America/Los_Angeles:20260423T083819
DTEND;TZID=America/Los_Angeles:20260423T083819
SUMMARY:2022 the 8th International Conference on Mechatronics System and Robots
LOCATION:Singapore
DESCRIPTION:
URL:https://assunmotor.com/blog/eventer/robotics-conferences-singapore/
END:VEVENT
END:VCALENDAR
